BEGIN:VCALENDAR
VERSION:2.0
BEGIN:VEVENT
URL:https://www.fotostammtisch-oha.de/events/viewevent/2-eroeffnung-fotoausstellung-osterode 
DTSTART:20161108T180000
DTEND:20161206T200000
SUMMARY:Eröffnung Fotoausstellung Osterode
DESCRIPTION:
LOCATION:Ratssaal, Kornmagazin Osterode, Eisensteinstraße, Osterode am Harz
END:VEVENT
END:VCALENDAR