BEGIN:VCALENDAR
VERSION:2.0
BEGIN:VEVENT
URL:https://www.fotostammtisch-oha.de/events/viewevent/20-vernissage-fachwerkausstellung 
DTSTART:20170406T180000
DTEND:20170406T193000
SUMMARY:Vernissage Fachwerkausstellung 
DESCRIPTION:Unsere Fachwerkausstellung wandert nach Einbeck!
LOCATION:Einbecker Kulturbüro
END:VEVENT
END:VCALENDAR